BEGIN:VCALENDAR
METHOD:PUBLISH
PRODID:Data::ICal 0.13
VERSION:2.0
BEGIN:VEVENT
DESCRIPTION:Cleveland, don’t be dumb 😤A$AP Rocky is pulling up with the Don’t Be Dumb Tour — and it’s about to be a MOVIE. 



📍 Rocket Arena📅 Friday, May 29 



Tickets on sale Tuesday, January 27 @ 10am. Secure your seats before it’s a wrap 🎟️🔥 



CLICK HERE TO PURCHASE TICKETS
DTSTAMP:20260420T161825Z
DTSTART;TZID=America/New_York:20260529T172208
DTEND;TZID=America/New_York:20260529T172208
LOCATION:Cleveland
SUMMARY:A$AP Rocky Don&#8217;t Be Dumb Tour @ Rocket Arena
UID:6458271-1780075328-1780075328
END:VEVENT
END:VCALENDAR
