BEGIN:VCALENDAR
METHOD:PUBLISH
PRODID:Data::ICal 0.13
VERSION:2.0
BEGIN:VEVENT
DESCRIPTION:We understand that times are tough right now, things feel uncertain, and finances are an issue for many. Join Z 107.9, 93.1 WZAK and the Ohio Housing Finance Agency for Empower One, a Facebook Live Housing events below with presentations by our special sponsors: the Cleveland Realtist Association, Third Federal Savings and Loan and The Ohio Housing Finance Agency.\n[caption id=&quot;attachment_4869806&quot; align=&quot;aligncenter&quot; width=&quot;1024&quot;] Source: Radio One Cleveland[/caption]\n\nInterested in learning about homeownership? Want to know what help is out there? This online event will educate potential first-time homebuyers on how you can own a home for less than you pay in rent.\n\nTune in for your chance to win your share of $1,000! We’re also giving away a flat screen TV, washer and dryer, a brand new sectional, and more. Don’t miss out! Get the tools you’ll need plus find out how you could qualify for help with your down payment and closing costs from The Ohio Housing Finance Agency.\n“Steps to Homeownership/Down payment Assistance”- Starting at 10:00am\n&nbsp;\nPresented By\n\n[aptivada widget-id=&quot;825854&quot; widget-type=&quot;app&quot;] \n&nbsp;\n“Building Credit for Future Success” Starting at 11:00am\nPresented By\nhttps://www.thirdfederal.com/img/logo.png\n[aptivada widget-id=&quot;827226&quot; widget-type=&quot;app&quot;] \n&nbsp;\n“The Role of Your Agent &amp; NID” Starting at 11:45am\nPresented By:\n\n[aptivada widget-id=&quot;827228&quot; widget-type=&quot;app&quot;]
DTSTAMP:20260422T032642Z
DTSTART;TZID=America/New_York:20200516T100000
DTEND;TZID=America/New_York:20200516T130000
LOCATION:
SUMMARY:EmpowerOne with Ohio Housing Finance Agency: A Virtual Housing Event
UID:4863593-1589623200-1589634000
END:VEVENT
END:VCALENDAR
