BEGIN:VCALENDAR
METHOD:PUBLISH
PRODID:Data::ICal 0.13
VERSION:2.0
BEGIN:VEVENT
DESCRIPTION:It&#039;s the Posted at the Lanes Celebrity Bowling Party presented by Metro by T-Mobile! The ONLY way to get into this party is by meeting Incognito at Metro by T-Mobile locations for your chance to win! See locations and dates below of where we&#039;ll be posted!\n&nbsp;\n\n[caption id=&quot;attachment_4838479&quot; align=&quot;aligncenter&quot; width=&quot;1024&quot;] Source: Radio One Cleveland / Radio One Cleveland[/caption]\nFriday, February 21st at Metro, 11008 Superior Avenue from 5-6P \nSaturday, February 22nd at Metro, 4180 Pearl Road from 3-4P  \nSaturday, February 29th at Metro, 4798 W. 130th from 3-4P \nThursday, March 5th at Metro, 37111 Euclid Avenue from 5-6P 
DTSTAMP:20260421T105626Z
DTSTART;TZID=America/New_York:20200306T200000
DTEND;TZID=America/New_York:20200306T230000
LOCATION:21400 Southgate Park Blvd\, Maple Heights\, OH\, 44137
SUMMARY:Find Out How You Can Go to the Metro by T-Mobile Posted at the Lanes Celebrity Bowling Party!
UID:4838480-1583524800-1583535600
END:VEVENT
END:VCALENDAR
