BEGIN:VCALENDAR
METHOD:PUBLISH
PRODID:Data::ICal 0.13
VERSION:2.0
BEGIN:VEVENT
DESCRIPTION:Legendary neo-soul group Floetry is coming to Cleveland! 



April 19th at PlayHouse Square! 



CLICK HERE to get your tickets!  




https://youtu.be/PCCGIXME164?si=xdyHxlKCAknf9yC3
DTSTAMP:20260420T194949Z
DTSTART;TZID=America/New_York:20260419T144000
DTEND;TZID=America/New_York:20260419T144000
LOCATION:Cleveland
SUMMARY:Floetry Say Yes Tour
UID:6482347-1776609600-1776609600
END:VEVENT
END:VCALENDAR
