BEGIN:VCALENDAR
METHOD:PUBLISH
PRODID:Data::ICal 0.13
VERSION:2.0
BEGIN:VEVENT
DESCRIPTION:Join Ro Digga at the Ohio Media School, Wednesday, October 26th from 6pm - 8pm for your chance to audition to host the Day Party with Ro Digga and K Nyce.\n\nNot only does the winner get to host with the Day Party, but they also will receive $1000!!!!!!\n\nPre-registration is not required. Call Dianne at Ohio Media school at 216-503-5900.\n\nFor more information or to enroll visit: http://beonair.com/locations/cleveland/ \n\n[googlemaps https://www.google.com/maps/embed?pb=!1m18!1m12!1m3!1d11972.554013663737!2d-81.6146073!3d41.3927984!2m3!1f0!2f0!3f0!3m2!1i1024!2i768!4f13.1!3m3!1m2!1s0x0%3A0xa988dc54bc6e76!2sOhio+Media+School!5e0!3m2!1sen!2sus!4v1476286431078&amp;w=600&amp;h=450]
DTSTAMP:20260420T084719Z
DTSTART;TZID=America/New_York:20161026T180000
DTEND;TZID=America/New_York:20161026T200000
LOCATION:9885 Rockside Rd\, Valley View\, OH\, 44125
SUMMARY:Host the Day Party with Ro Digga and K Nyce
UID:4599528-1477504800-1477512000
END:VEVENT
END:VCALENDAR
