BEGIN:VCALENDAR
METHOD:PUBLISH
PRODID:Data::ICal 0.13
VERSION:2.0
BEGIN:VEVENT
DESCRIPTION:All month long at Southgate: 3 wings + a side for $5, or 5 wings for $6, with the option to add extra wings for $1 each\nHead over to our Southgate location for our exclusive wing special and try our new sauce! Come out for the Southgate special carnival every Friday night from 4p-6:30pm. Win prizes! Great Food!\n[googlemaps https://www.google.com/maps/embed?pb=!1m18!1m12!1m3!1d2992.278110789323!2d-81.53003158457346!3d41.411481179262!2m3!1f0!2f0!3f0!3m2!1i1024!2i768!4f13.1!3m3!1m2!1s0x8830e2888bec796b%3A0x2c8fa24b46e96e5b!2s5424+Northfield+Rd%2C+Maple+Heights%2C+OH+44137!5e0!3m2!1sen!2sus!4v1475256162000&amp;w=600&amp;h=450]
DTSTAMP:20260421T023213Z
DTSTART;TZID=America/New_York:20161007T000000
DTEND;TZID=America/New_York:20161021T000000
LOCATION:5424 Northfield Road\, Maple Heights
SUMMARY:Mr. Chicken #SouthgateSpecial
UID:4596578-1475798400-1477008000
END:VEVENT
END:VCALENDAR
