BEGIN:VCALENDAR
METHOD:PUBLISH
PRODID:Data::ICal 0.13
VERSION:2.0
BEGIN:VEVENT
DESCRIPTION:[caption id=&quot;attachment_3520543&quot; align=&quot;aligncenter&quot; width=&quot;840&quot;] Source: Hot 107.9[/caption]
[ione_embed src=http://player.theplatform.com/p/BCY3OC/J61z6skhR7Fz/select/media/4pRkxDnwrWWa?autoPlay=true form=html service=tvone.com width=610 height=343] 
Save the date for the biggest concert event of the year! #BirthdayBashATL is going down June 17th -18th exclusively from Hot 107.9!  
Text birthdaybash to 71007 to join our club for Birthday Bash updates and alerts!
Standard message and data rates may apply. Maximum of five autodialed Text Club messages per week.  To cancel Text Club, reply STOP to 71007.  Reply HELP for more information. For complete Text Club terms and conditions and esign disclosures, visit here.
[protected-iframe id=&quot;99717d5ceda6fbfa58219a305de7b0ac-34328058-33394788&quot; info=&quot;https://smsgate.wideorbit.com/MarketingCenter2.0/widget/signup_widget.php&quot; ] 
[ione_facebook_like_box url_segment=hot1079atl height=&quot;260&quot;]
Sign Up For Our Newsletter! [sailthru_widget fields=&quot;email&quot; sailthru_list=&quot;Atlanta HotSpot ATL Subscribers&quot;]\n\n
[ione_media_gallery src=&quot;https://hotspotatl.com&quot;  id=&quot;3448919&quot; overlay=&quot;true&quot;]
DTSTAMP:20260422T012128Z
DTSTART;TZID=America/New_York:19700101T000000
DTEND;TZID=America/New_York:19700101T000000
LOCATION:
SUMMARY:Save The Date: Birthday Bash ATL June 17th-18th! [DETAILS INSIDE]
UID:4542525--
END:VEVENT
END:VCALENDAR
