BEGIN:VCALENDAR
METHOD:PUBLISH
PRODID:Data::ICal 0.13
VERSION:2.0
BEGIN:VEVENT
DESCRIPTION:Save the date, Summer Jam 2019 is set to hit The Wolstein Center Friday, August 30th!
DTSTAMP:20260421T150839Z
DTSTART;TZID=America/New_York:19700101T000000
DTEND;TZID=America/New_York:19700101T000000
LOCATION:2000 Prospect Ave E\, Cleveland\, Ohio\, 44115
SUMMARY:Summer Jam 2019
UID:4787292--
END:VEVENT
END:VCALENDAR
