BEGIN:VCALENDAR
METHOD:PUBLISH
PRODID:Data::ICal 0.13
VERSION:2.0
BEGIN:VEVENT
DESCRIPTION:Join Ro Digga Saturday, May 6th from 2 pm - 4 pm, at the MetroPCS at 10959 Kinsman Road. She will be giving away a pair of Tickets to see Future and Migos every half hour. A grand prize winner will also receive a $50 Uber Gift Card and $100 Visa Gift Card.\n*No purchase necessary. Must be 18 or older to win/enter. Ohio residents only. Must have valid state ID. Must be 30 days since you won a prize with Radio One. Must be present to win.\n[googlemaps https://www.google.com/maps/embed?pb=!1m18!1m12!1m3!1d2989.6000420531013!2d-81.60970858457166!3d41.46958927925667!2m3!1f0!2f0!3f0!3m2!1i1024!2i768!4f13.1!3m3!1m2!1s0x8830fb5ecea76c57%3A0xa6d741c6687ca87a!2s10959+Kinsman+Rd%2C+Cleveland%2C+OH+44104!5e0!3m2!1sen!2sus!4v1493307110586&amp;w=600&amp;h=450]
DTSTAMP:20260421T102137Z
DTSTART;TZID=America/New_York:20170506T140000
DTEND;TZID=America/New_York:20170506T160000
LOCATION:10959 Kinsman Rd\, Cleveland\, OH\, 44104
SUMMARY:Win Future Tickets with MetroPCS
UID:4638136-1494079200-1494086400
END:VEVENT
END:VCALENDAR
