BEGIN:VCALENDAR
METHOD:PUBLISH
PRODID:Data::ICal 0.13
VERSION:2.0
BEGIN:VEVENT
DESCRIPTION:[googlemaps https://www.google.com/maps/embed?pb=!1m14!1m8!1m3!1d11952.830034510805!2d-81.6870284!3d41.4997778!3m2!1i1024!2i768!4f13.1!3m3!1m2!1s0x0%3A0xf4613644b2a5af47!2sCaptiv8+Potato+Bar!5e0!3m2!1sen!2sus!4v1534365384682&amp;w=600&amp;h=450]
DTSTAMP:20260423T145812Z
DTSTART;TZID=America/New_York:20180825T235900
DTEND;TZID=America/New_York:20180826T020000
LOCATION:850 Euclid Ave\, Cleveland\, OH\, 44114
SUMMARY:Win Tickets to Summer Jam Courtesy of Rémy Martin at CAPTIV8
UID:4753437-1535241540-1535248800
END:VEVENT
END:VCALENDAR
