BEGIN:VCALENDAR
METHOD:PUBLISH
PRODID:Data::ICal 0.13
VERSION:2.0
BEGIN:VEVENT
DESCRIPTION:[googlemaps https://www.google.com/maps/embed?pb=!1m14!1m8!1m3!1d11951.582151789251!2d-81.6858092!3d41.5065385!3m2!1i1024!2i768!4f13.1!3m3!1m2!1s0x0%3A0x12522439f0f1559a!2sMedusa+Restaurant+%26+Lounge+Cleveland!5e0!3m2!1sen!2sus!4v1534360069083&amp;w=600&amp;h=450]
DTSTAMP:20260420T211945Z
DTSTART;TZID=America/New_York:20180824T235900
DTEND;TZID=America/New_York:20180825T020000
LOCATION:1437 St Clair NE\, Cleveland\, OH\, 44114
SUMMARY:Win Tickets to Summer Jam Courtesy of RÉMY MARTIN at Medusa
UID:4753339-1535155140-1535162400
END:VEVENT
END:VCALENDAR
