BEGIN:VCALENDAR
METHOD:PUBLISH
PRODID:Data::ICal 0.13
VERSION:2.0
BEGIN:VEVENT
DESCRIPTION:[caption id=&quot;attachment_5456517&quot; align=&quot;aligncenter&quot; width=&quot;514&quot;] Source: CROWL Media / Crowl Media[/caption]\n\n&nbsp;\nCLICK HERE FOR YOUR CHANCE TO WIN $500\nBecome and influencer for day with Micah of Z 107.9! plus win $500. Join us at Ohio Media School on 3/22 from 6p-8p. Learn about the business, register to win! Must be present to win. Pre-register online.\n&nbsp;\n\n&nbsp;\n\n&nbsp;\n\n&nbsp;
DTSTAMP:20260420T191928Z
DTSTART;TZID=America/New_York:20230322T180000
DTEND;TZID=America/New_York:20230322T200000
LOCATION:
SUMMARY:Z1079 at Ohio Media School
UID:5456523-1679508000-1679515200
END:VEVENT
END:VCALENDAR
